BEGIN:VCALENDAR
VERSION:2.0
PRODID:SchoolNow
CALSCALE:GREGORIAN
BEGIN:VEVENT
UID:78bc511c-5f44-11ef-a7ec-0affdb8db763
DTSTAMP:20240820T223515Z
SUMMARY:PARENT PICNIC
URL;VALUE=URI:https://www.sylvan.k12.ca.us/schools/mary-ann-sanders/calenda
 r/6434883/parent-picnic
DTSTART:20250509T183000Z
DTEND:20250509T201300Z
END:VEVENT
END:VCALENDAR
