BEGIN:VCALENDAR
VERSION:2.0
PRODID:SchoolNow
CALSCALE:GREGORIAN
BEGIN:VEVENT
UID:3ab13b0e-6b0f-11ef-8ec4-0a58a9feac02
DTSTAMP:20240904T224422Z
SUMMARY:September 20 - PTA Dance-a-Thon
URL;VALUE=URI:https://www.sylvan.k12.ca.us/schools/mary-ann-sanders/calenda
 r/6526384/september-20-pta-dance-a-thon
DTSTART;VALUE=DATE:20240920
DTEND;VALUE=DATE:20240921
END:VEVENT
END:VCALENDAR
