BEGIN:VCALENDAR
VERSION:2.0
PRODID:SchoolNow
CALSCALE:GREGORIAN
BEGIN:VEVENT
UID:56e44366-6b0f-11ef-a63f-0a58a9feac02
DTSTAMP:20240904T224509Z
SUMMARY:October 18 - PTA meeting\, 8:45 am
URL;VALUE=URI:https://www.sylvan.k12.ca.us/schools/mary-ann-sanders/calenda
 r/6526385/october-18-pta-meeting-8-45-am
DTSTART:20241018T154500Z
DTEND:20241018T164500Z
END:VEVENT
END:VCALENDAR
