BEGIN:VCALENDAR
VERSION:2.0
PRODID:SchoolNow
CALSCALE:GREGORIAN
BEGIN:VEVENT
UID:7172a48e-6b0f-11ef-a042-0a58a9feac02
DTSTAMP:20241015T191654Z
SUMMARY:October 25 - PTA Trunk or Treat
URL;VALUE=URI:https://www.sylvan.k12.ca.us/schools/mary-ann-sanders/calenda
 r/6526386/october-25-pta-trunk-or-treat
DTSTART:20241026T003000Z
DTEND:20241026T020000Z
END:VEVENT
END:VCALENDAR
