BEGIN:VCALENDAR
VERSION:2.0
PRODID:SchoolNow
CALSCALE:GREGORIAN
BEGIN:VEVENT
UID:80df7bae-6b0f-11ef-b903-0a58a9feac02
DTSTAMP:20240904T224620Z
SUMMARY:October 31 - 1st Grade Field Trip
URL;VALUE=URI:https://www.sylvan.k12.ca.us/schools/mary-ann-sanders/calenda
 r/6526387/october-31-1st-grade-field-trip
DTSTART;VALUE=DATE:20241031
DTEND;VALUE=DATE:20241101
END:VEVENT
END:VCALENDAR
