BEGIN:VCALENDAR
VERSION:2.0
PRODID:SchoolNow
CALSCALE:GREGORIAN
BEGIN:VEVENT
UID:c0992dd4-6b10-11ef-bb99-0a58a9feac02
DTSTAMP:20240904T225516Z
SUMMARY:November 11 - Veteran's Day - No School
URL;VALUE=URI:https://www.sylvan.k12.ca.us/schools/mary-ann-sanders/calenda
 r/6526388/november-11-veterans-day-no-school
DTSTART;VALUE=DATE:20241111
DTEND;VALUE=DATE:20241112
END:VEVENT
END:VCALENDAR
