BEGIN:VCALENDAR
VERSION:2.0
PRODID:SchoolNow
CALSCALE:GREGORIAN
BEGIN:VEVENT
UID:d369d9fe-6b10-11ef-9e80-0a58a9feac02
DTSTAMP:20240904T225548Z
SUMMARY:November 15 - Parent Volunteer Training\, 8:45 am
URL;VALUE=URI:https://www.sylvan.k12.ca.us/schools/mary-ann-sanders/calenda
 r/6526389/november-15-parent-volunteer-training-8-45-am
DTSTART:20241115T164500Z
DTEND:20241115T174500Z
END:VEVENT
END:VCALENDAR
