BEGIN:VCALENDAR
VERSION:2.0
PRODID:SchoolNow
CALSCALE:GREGORIAN
BEGIN:VEVENT
UID:e7d560f2-6b10-11ef-9e0d-0a58a9feac02
DTSTAMP:20240904T225622Z
SUMMARY:November 26 - Minimum Day\, dismissal @ 1:40 pm
URL;VALUE=URI:https://www.sylvan.k12.ca.us/schools/mary-ann-sanders/calenda
 r/6526390/november-26-minimum-day-dismissal-1-40-pm
DTSTART:20241126T214000Z
DTEND:20241126T224000Z
END:VEVENT
END:VCALENDAR
