BEGIN:VCALENDAR
VERSION:2.0
PRODID:SchoolNow
CALSCALE:GREGORIAN
BEGIN:VEVENT
UID:fca846c0-6b10-11ef-9e6d-023737716375
DTSTAMP:20240904T225657Z
SUMMARY:November 27 - December 1 - Thanksgiving Holiday
URL;VALUE=URI:https://www.sylvan.k12.ca.us/schools/mary-ann-sanders/calenda
 r/6526391/november-27-december-1-thanksgiving-holiday
DTSTART;VALUE=DATE:20241127
DTEND;VALUE=DATE:20241202
END:VEVENT
END:VCALENDAR
