BEGIN:VCALENDAR
VERSION:2.0
PRODID:SchoolNow
CALSCALE:GREGORIAN
BEGIN:VEVENT
UID:08785e4a-6b11-11ef-a050-0affcbe4b4af
DTSTAMP:20240904T225717Z
SUMMARY:December 13 - Holiday Gathering in the evening
URL;VALUE=URI:https://www.sylvan.k12.ca.us/schools/mary-ann-sanders/calenda
 r/6526392/december-13-holiday-gathering-in-the-evening
DTSTART;VALUE=DATE:20241213
DTEND;VALUE=DATE:20241214
END:VEVENT
END:VCALENDAR
