BEGIN:VCALENDAR
VERSION:2.0
PRODID:SchoolNow
CALSCALE:GREGORIAN
BEGIN:VEVENT
UID:1d78be7a-6b11-11ef-8181-0e8fe64ff22b
DTSTAMP:20240904T225752Z
SUMMARY:December 20 - Minimum Day\, dismissal @ 1:40 pm
URL;VALUE=URI:https://www.sylvan.k12.ca.us/schools/mary-ann-sanders/calenda
 r/6526393/december-20-minimum-day-dismissal-1-40-pm
DTSTART:20241220T214000Z
DTEND:20241220T224000Z
END:VEVENT
END:VCALENDAR
