BEGIN:VCALENDAR
VERSION:2.0
PRODID:SchoolNow
CALSCALE:GREGORIAN
BEGIN:VEVENT
UID:6e345a22-6b11-11ef-8a5c-0a58a9feac02
DTSTAMP:20240904T230007Z
SUMMARY:December 23 to January 12 - Winter Break
URL;VALUE=URI:https://www.sylvan.k12.ca.us/schools/mary-ann-sanders/calenda
 r/6526394/december-23-to-january-12-winter-break
DTSTART;VALUE=DATE:20241223
DTEND;VALUE=DATE:20250113
END:VEVENT
END:VCALENDAR
