BEGIN:VCALENDAR
VERSION:2.0
PRODID:SchoolNow
CALSCALE:GREGORIAN
BEGIN:VEVENT
UID:42278f48-6b12-11ef-a0cc-0a58a9feac02
DTSTAMP:20240904T230603Z
SUMMARY:March 4 - March 6 - Parent Teacher Conferences\, dismissal @ 1:40 p
 m
URL;VALUE=URI:https://www.sylvan.k12.ca.us/schools/mary-ann-sanders/calenda
 r/6526403/march-4-march-6-parent-teacher-conferences-dismissal-1-40-pm
DTSTART:20250304T214000Z
DTEND:20250307T010500Z
END:VEVENT
END:VCALENDAR
