BEGIN:VCALENDAR
VERSION:2.0
PRODID:SchoolNow
CALSCALE:GREGORIAN
BEGIN:VEVENT
UID:ac094ca8-6b12-11ef-92e6-0afffae2b9c9
DTSTAMP:20240904T230901Z
SUMMARY:March 18 - Parent Volunteer Training\, 7:30 am
URL;VALUE=URI:https://www.sylvan.k12.ca.us/schools/mary-ann-sanders/calenda
 r/6526404/march-18-parent-volunteer-training-7-30-am
DTSTART:20250318T143000Z
DTEND:20250318T153000Z
END:VEVENT
END:VCALENDAR
