BEGIN:VCALENDAR
VERSION:2.0
PRODID:SchoolNow
CALSCALE:GREGORIAN
BEGIN:VEVENT
UID:c71b226e-6b12-11ef-b630-0a58a9feac02
DTSTAMP:20240904T230946Z
SUMMARY:March 19 - PTA meeting\, 3:00 pm
URL;VALUE=URI:https://www.sylvan.k12.ca.us/schools/mary-ann-sanders/calenda
 r/6526405/march-19-pta-meeting-3-00-pm
DTSTART:20250319T220000Z
DTEND:20250319T230000Z
END:VEVENT
END:VCALENDAR
