BEGIN:VCALENDAR
VERSION:2.0
PRODID:SchoolNow
CALSCALE:GREGORIAN
BEGIN:VEVENT
UID:e794d35a-6b12-11ef-a777-0affd22147db
DTSTAMP:20240904T231041Z
SUMMARY:April 17 - PTA Jog-a-thon
URL;VALUE=URI:https://www.sylvan.k12.ca.us/schools/mary-ann-sanders/calenda
 r/6526406/april-17-pta-jog-a-thon
DTSTART;VALUE=DATE:20250417
DTEND;VALUE=DATE:20250418
END:VEVENT
END:VCALENDAR
