BEGIN:VCALENDAR
VERSION:2.0
PRODID:SchoolNow
CALSCALE:GREGORIAN
BEGIN:VEVENT
UID:3266f08e-6b13-11ef-97c6-0affc6b4c37b
DTSTAMP:20240904T231246Z
SUMMARY:May 7 - PTA meeting\, 3:00 pm
URL;VALUE=URI:https://www.sylvan.k12.ca.us/schools/mary-ann-sanders/calenda
 r/6526408/may-7-pta-meeting-3-00-pm
DTSTART:20250507T220000Z
DTEND:20250507T230000Z
END:VEVENT
END:VCALENDAR
