BEGIN:VCALENDAR
VERSION:2.0
PRODID:SchoolNow
CALSCALE:GREGORIAN
BEGIN:VEVENT
UID:030362ae-6b14-11ef-a653-0a58a9feac02
DTSTAMP:20240904T231836Z
SUMMARY:May 8 - Open House\, minimum day\, dismissal @ 1:40 pm
URL;VALUE=URI:https://www.sylvan.k12.ca.us/schools/mary-ann-sanders/calenda
 r/6526409/may-8-open-house-minimum-day-dismissal-1-40-pm
DTSTART:20250508T204000Z
DTEND:20250508T214000Z
END:VEVENT
END:VCALENDAR
