BEGIN:VCALENDAR
VERSION:2.0
PRODID:SchoolNow
CALSCALE:GREGORIAN
BEGIN:VEVENT
UID:19414da6-6b14-11ef-8521-0afffae2b9c9
DTSTAMP:20240904T231913Z
SUMMARY:May 9 - Parent Picnic Day
URL;VALUE=URI:https://www.sylvan.k12.ca.us/schools/mary-ann-sanders/calenda
 r/6526410/may-9-parent-picnic-day
DTSTART;VALUE=DATE:20250509
DTEND;VALUE=DATE:20250510
END:VEVENT
END:VCALENDAR
