BEGIN:VCALENDAR
VERSION:2.0
PRODID:SchoolNow
CALSCALE:GREGORIAN
BEGIN:VEVENT
UID:24561ca8-6b14-11ef-b11c-0a58a9feac02
DTSTAMP:20240904T231932Z
SUMMARY:May 16 - PTA Funworks Night
URL;VALUE=URI:https://www.sylvan.k12.ca.us/schools/mary-ann-sanders/calenda
 r/6526411/may-16-pta-funworks-night
DTSTART;VALUE=DATE:20250516
DTEND;VALUE=DATE:20250517
END:VEVENT
END:VCALENDAR
