BEGIN:VCALENDAR
VERSION:2.0
PRODID:SchoolNow
CALSCALE:GREGORIAN
BEGIN:VEVENT
UID:3f4dbf34-6b14-11ef-b9ae-0a58a9feac02
DTSTAMP:20240904T232017Z
SUMMARY:May 23 - Trimester 3 ends\, minimim day\, dismissal at 1:40 pm
URL;VALUE=URI:https://www.sylvan.k12.ca.us/schools/mary-ann-sanders/calenda
 r/6526412/may-23-trimester-3-ends-minimim-day-dismissal-at-1-40-pm
DTSTART:20250523T204000Z
DTEND:20250523T214000Z
END:VEVENT
END:VCALENDAR
