BEGIN:VCALENDAR
VERSION:2.0
PRODID:SchoolNow
CALSCALE:GREGORIAN
BEGIN:VEVENT
UID:018bbaa8-4001-11f0-aa2c-0e161f2a8b9b
DTSTAMP:20250602T222911Z
SUMMARY:Office Closed from June 9\, 2025 through July 11th\, 2025
URL;VALUE=URI:https://www.sylvan.k12.ca.us/schools/mary-ann-sanders/calenda
 r/8242667/office-closed-from-june-9-2025-through-july-11th-2025
DTSTART;VALUE=DATE:20250609
DTEND;VALUE=DATE:20250712
END:VEVENT
END:VCALENDAR
