BEGIN:VCALENDAR
VERSION:2.0
PRODID:SchoolNow
CALSCALE:GREGORIAN
BEGIN:VEVENT
UID:d91bb37a-6373-11f0-b176-0a58a9feac02
DTSTAMP:20250718T010946Z
SUMMARY:July 28-30\, 2025 - Jumpstart for incoming TK & Kindergarten studen
 ts from 9:00-11:00 am
URL;VALUE=URI:https://www.sylvan.k12.ca.us/schools/mary-ann-sanders/calenda
 r/8425945/jumpstart-for-incoming-tk-kindergarten-students-from-9-00-11-00-
 am
DTSTART;VALUE=DATE:20250728
DTEND;VALUE=DATE:20250731
END:VEVENT
END:VCALENDAR
