BEGIN:VCALENDAR
VERSION:2.0
PRODID:SchoolNow
CALSCALE:GREGORIAN
BEGIN:VEVENT
UID:3456857a-68a7-11f0-a142-0a58a9feac02
DTSTAMP:20250725T005838Z
SUMMARY:Back to School Night - August 14th\, 2025\, 6:00-7:30pm
URL;VALUE=URI:https://www.sylvan.k12.ca.us/schools/mary-ann-sanders/calenda
 r/8442828/back-to-school-night-august-14th-2025
DTSTART:20250815T010000Z
DTEND:20250815T023000Z
ATTACH;FILENAME=;FMTTYPE=application/octet-stream:
END:VEVENT
END:VCALENDAR
