BEGIN:VCALENDAR
VERSION:2.0
PRODID:SchoolNow
CALSCALE:GREGORIAN
BEGIN:VEVENT
UID:dbb2ff56-68f2-11f0-aa20-0a58a9feac02
DTSTAMP:20250725T010112Z
SUMMARY:Volunteer Training on August 5\, 2025 at 12:30 pm in the MPR
URL;VALUE=URI:https://www.sylvan.k12.ca.us/schools/mary-ann-sanders/calenda
 r/8444075/volunteer-training-on-august-5-2025-at-12-30-pm-in-the-mpr
DTSTART:20250805T193000Z
DTEND:20250805T203000Z
END:VEVENT
END:VCALENDAR
