BEGIN:VCALENDAR
VERSION:2.0
PRODID:SchoolNow
CALSCALE:GREGORIAN
BEGIN:VEVENT
UID:f968e1dc-68f2-11f0-83de-0ed31cca5a63
DTSTAMP:20250725T010202Z
SUMMARY:Volunteer Training on August 14\, 2025 at 5:30 pm in the Library
URL;VALUE=URI:https://www.sylvan.k12.ca.us/schools/mary-ann-sanders/calenda
 r/8444076/volunteer-training-on-august-14-2025-at-5-30-pm-in-the-library
DTSTART:20250815T003000Z
DTEND:20250815T013000Z
END:VEVENT
END:VCALENDAR
