BEGIN:VCALENDAR
VERSION:2.0
PRODID:SchoolNow
CALSCALE:GREGORIAN
BEGIN:VEVENT
UID:1ce520ee-68f3-11f0-a902-0275e559ef9f
DTSTAMP:20251107T162146Z
SUMMARY:Volunteer Training on November 14\, 2025 at 8:45 am in the MPR
URL;VALUE=URI:https://www.sylvan.k12.ca.us/schools/mary-ann-sanders/calenda
 r/8444077/volunteer-training-on-november-14-2025-at-8-45-am-in-the-mpr
DTSTART:20251114T164500Z
DTEND:20251114T174500Z
END:VEVENT
END:VCALENDAR
