BEGIN:VCALENDAR
VERSION:2.0
PRODID:SchoolNow
CALSCALE:GREGORIAN
BEGIN:VEVENT
UID:6fc0df4a-757f-11f0-a4e1-02aca8e1564d
DTSTAMP:20250810T001744Z
SUMMARY:Picture Day - Wednesday\, August 20\, 2025
URL;VALUE=URI:https://www.sylvan.k12.ca.us/schools/mary-ann-sanders/calenda
 r/8486161/picture-day-wednesday-august-20-2025
DTSTART;VALUE=DATE:20250820
DTEND;VALUE=DATE:20250821
ATTACH;FILENAME=Mary Ann Sanders Elementary_EL_Fall Notice.pdf;FMTTYPE=appl
 ication/pdf:https://campussuite-storage.s3.amazonaws.com/prod/1559060/7fb7
 8b4a-77c0-11eb-acb4-0a72cb11b325/2990462/d037c9ca-757e-11f0-8406-0a58a9fea
 c02/file/Mary Ann Sanders Elementary_EL_Fall Notice.pdf
END:VEVENT
END:VCALENDAR
