BEGIN:VCALENDAR
VERSION:2.0
PRODID:SchoolNow
CALSCALE:GREGORIAN
BEGIN:VEVENT
UID:c9fd4872-7f93-11f0-afcc-0a58a9feac02
DTSTAMP:20250822T200837Z
SUMMARY:PTA Meeting - September 17th @ 3:00pm
URL;VALUE=URI:https://www.sylvan.k12.ca.us/schools/mary-ann-sanders/calenda
 r/8533726/pta-meeting-september-17th-3-00pm
DTSTART:20250917T220000Z
DTEND:20250917T230000Z
END:VEVENT
END:VCALENDAR
