BEGIN:VCALENDAR
VERSION:2.0
PRODID:SchoolNow
CALSCALE:GREGORIAN
BEGIN:VEVENT
UID:dda77f8c-7f93-11f0-a9ca-0a58a9feac02
DTSTAMP:20250822T200910Z
SUMMARY:PTA Meeting - October 15th @ 6:00pm
URL;VALUE=URI:https://www.sylvan.k12.ca.us/schools/mary-ann-sanders/calenda
 r/8533728/pta-meeting-september-17th-3-00pm-clone
DTSTART:20251016T010000Z
DTEND:20251016T020000Z
END:VEVENT
END:VCALENDAR
