BEGIN:VCALENDAR
VERSION:2.0
PRODID:SchoolNow
CALSCALE:GREGORIAN
BEGIN:VEVENT
UID:2f54539e-7f96-11f0-9463-0a58a9feac02
DTSTAMP:20250822T202546Z
SUMMARY:Picture Make-Ups - October 8\, 2025
URL;VALUE=URI:https://www.sylvan.k12.ca.us/schools/mary-ann-sanders/calenda
 r/8533730/picture-make-ups-october-8-2025
DTSTART;VALUE=DATE:20251008
DTEND;VALUE=DATE:20251009
END:VEVENT
END:VCALENDAR
