BEGIN:VCALENDAR
VERSION:2.0
PRODID:SchoolNow
CALSCALE:GREGORIAN
BEGIN:VEVENT
UID:2ae327c2-85f9-11f0-aad0-0a58a9feac02
DTSTAMP:20250830T232926Z
SUMMARY:Constitution Day - September 16\, 2025
URL;VALUE=URI:https://www.sylvan.k12.ca.us/schools/mary-ann-sanders/calenda
 r/8562737/constitution-day-september-16-2025
DTSTART;VALUE=DATE:20250916
DTEND;VALUE=DATE:20250917
END:VEVENT
END:VCALENDAR
