BEGIN:VCALENDAR
VERSION:2.0
PRODID:SchoolNow
CALSCALE:GREGORIAN
BEGIN:VEVENT
UID:39209c0c-85f9-11f0-972d-0a58a9feac02
DTSTAMP:20250830T232950Z
SUMMARY:National Pirate Day - September 19\, 2025
URL;VALUE=URI:https://www.sylvan.k12.ca.us/schools/mary-ann-sanders/calenda
 r/8562738/national-pirate-day-september-19-2025
DTSTART;VALUE=DATE:20250919
DTEND;VALUE=DATE:20250920
END:VEVENT
END:VCALENDAR
