BEGIN:VCALENDAR
VERSION:2.0
PRODID:SchoolNow
CALSCALE:GREGORIAN
BEGIN:VEVENT
UID:62cdbf30-85f9-11f0-a362-0a58a9feac02
DTSTAMP:20250830T233059Z
SUMMARY:Childhood Cancer Awareness Day - September 26\, 2025
URL;VALUE=URI:https://www.sylvan.k12.ca.us/schools/mary-ann-sanders/calenda
 r/8562739/childhood-cancer-awareness-day-september-26-2025
DTSTART;VALUE=DATE:20250926
DTEND;VALUE=DATE:20250927
END:VEVENT
END:VCALENDAR
