BEGIN:VCALENDAR
VERSION:2.0
PRODID:SchoolNow
CALSCALE:GREGORIAN
BEGIN:VEVENT
UID:1ef9ebb8-a556-11f0-9e2b-0a58a9feac02
DTSTAMP:20251009T212533Z
SUMMARY:Trunk or Treat - Fall Festival - October 24th\, 2025
URL;VALUE=URI:https://www.sylvan.k12.ca.us/schools/mary-ann-sanders/calenda
 r/8710146/trunk-or-treat-fall-festival-october-24th-2025
DTSTART:20251025T000000Z
DTEND:20251025T013000Z
END:VEVENT
END:VCALENDAR
