BEGIN:VCALENDAR
VERSION:2.0
PRODID:SchoolNow
CALSCALE:GREGORIAN
BEGIN:VEVENT
UID:32eccd72-a55e-11f0-afcc-0affdb44ff1b
DTSTAMP:20251009T222044Z
SUMMARY:Parent Picnic at your child's lunch time - October 30th\, 2025
URL;VALUE=URI:https://www.sylvan.k12.ca.us/schools/mary-ann-sanders/calenda
 r/8710150/parent-picnic-at-your-childs-lunch-time-october-30th-2025
DTSTART;VALUE=DATE:20251030
DTEND;VALUE=DATE:20251031
END:VEVENT
END:VCALENDAR
