BEGIN:VCALENDAR
VERSION:2.0
PRODID:SchoolNow
CALSCALE:GREGORIAN
BEGIN:VEVENT
UID:e987bae6-b73e-11f0-a9f9-02234586cfdd
DTSTAMP:20251101T162208Z
SUMMARY:Parent Teacher Conferences - November 3-7\, 2025: Dismissal 1:40pm 
 all week
URL;VALUE=URI:https://www.sylvan.k12.ca.us/schools/mary-ann-sanders/calenda
 r/8767378/parent-teacher-conferences-november-3-7-2025-dismissal-1-40pm-al
 l-week
DTSTART;VALUE=DATE:20251103
DTEND;VALUE=DATE:20251108
END:VEVENT
END:VCALENDAR
