BEGIN:VCALENDAR
VERSION:2.0
PRODID:SchoolNow
CALSCALE:GREGORIAN
BEGIN:VEVENT
UID:100749c0-b73f-11f0-8d92-02234586cfdd
DTSTAMP:20251101T162714Z
SUMMARY:Veteran's Day\, November 10-11\, 2025 - No School
URL;VALUE=URI:https://www.sylvan.k12.ca.us/schools/mary-ann-sanders/calenda
 r/8767379/veterans-day-november-10-11-2025-no-school
DTSTART;VALUE=DATE:20251110
DTEND;VALUE=DATE:20251112
END:VEVENT
END:VCALENDAR
