BEGIN:VCALENDAR
VERSION:2.0
PRODID:SchoolNow
CALSCALE:GREGORIAN
BEGIN:VEVENT
UID:40894b02-b73f-11f0-9db0-0a58a9feac02
DTSTAMP:20251101T162434Z
SUMMARY:Thanksgiving Holiday\, November 26-30 - No School
URL;VALUE=URI:https://www.sylvan.k12.ca.us/schools/mary-ann-sanders/calenda
 r/8767380/thanksgiving-holiday-november-26-30-no-school
DTSTART;VALUE=DATE:20251126
DTEND;VALUE=DATE:20251201
END:VEVENT
END:VCALENDAR
