BEGIN:VCALENDAR
VERSION:2.0
PRODID:SchoolNow
CALSCALE:GREGORIAN
BEGIN:VEVENT
UID:597240f4-bbf6-11f0-8564-0a58a9feac02
DTSTAMP:20251107T162518Z
SUMMARY:PTA Meeting - November 21st @ 8:30am
URL;VALUE=URI:https://www.sylvan.k12.ca.us/schools/mary-ann-sanders/calenda
 r/8783176/pta-meeting-november-21st-8-30am
DTSTART:20251121T163000Z
DTEND:20251121T173000Z
END:VEVENT
END:VCALENDAR
