BEGIN:VCALENDAR
VERSION:2.0
PRODID:SchoolNow
CALSCALE:GREGORIAN
BEGIN:VEVENT
UID:cc681b38-bbf6-11f0-a3fc-0a58a9feac02
DTSTAMP:20251107T162831Z
SUMMARY:PTA Meeting - February 18th @ 3:00pm
URL;VALUE=URI:https://www.sylvan.k12.ca.us/schools/mary-ann-sanders/calenda
 r/8783178/pta-meeting-february-18th-3-00pm
DTSTART:20260218T230000Z
DTEND:20260219T000000Z
END:VEVENT
END:VCALENDAR
