BEGIN:VCALENDAR
VERSION:2.0
PRODID:SchoolNow
CALSCALE:GREGORIAN
BEGIN:VEVENT
UID:38e4f180-f0e2-11f0-9cb7-0a58a9feac02
DTSTAMP:20260114T004445Z
SUMMARY:No School - Lincoln's Birthday - February 9\, 2026
URL;VALUE=URI:https://www.sylvan.k12.ca.us/schools/mary-ann-sanders/calenda
 r/8835813/no-school-lincolns-birthday-february-9-2026
DTSTART;VALUE=DATE:20260209
DTEND;VALUE=DATE:20260210
END:VEVENT
END:VCALENDAR
