BEGIN:VCALENDAR
VERSION:2.0
PRODID:SchoolNow
CALSCALE:GREGORIAN
BEGIN:VEVENT
UID:4ab8b284-f0e2-11f0-a6be-0a58a9feac02
DTSTAMP:20260114T004515Z
SUMMARY:No School - President's Day - February 16\, 2026
URL;VALUE=URI:https://www.sylvan.k12.ca.us/schools/mary-ann-sanders/calenda
 r/8835814/no-school-presidents-day-february-16-2026
DTSTART;VALUE=DATE:20260216
DTEND;VALUE=DATE:20260217
END:VEVENT
END:VCALENDAR
