BEGIN:VCALENDAR
VERSION:2.0
PRODID:SchoolNow
CALSCALE:GREGORIAN
BEGIN:VEVENT
UID:ae2e6018-0206-11f1-a0c5-029d5c58f7ad
DTSTAMP:20260204T201932Z
SUMMARY:Sports Day - February 6\, 2026
URL;VALUE=URI:https://www.sylvan.k12.ca.us/schools/mary-ann-sanders/calenda
 r/8849668/sports-day-february-6-2026
DTSTART;VALUE=DATE:20260206
DTEND;VALUE=DATE:20260207
END:VEVENT
END:VCALENDAR
