BEGIN:VCALENDAR
VERSION:2.0
PRODID:SchoolNow
CALSCALE:GREGORIAN
BEGIN:VEVENT
UID:e512263c-0206-11f1-b21f-029d5c58f7ad
DTSTAMP:20260204T202006Z
SUMMARY:Comfy Day - February 20\, 2026
URL;VALUE=URI:https://www.sylvan.k12.ca.us/schools/mary-ann-sanders/calenda
 r/8849670/comfy-day-february-20-2026
DTSTART;VALUE=DATE:20260220
DTEND;VALUE=DATE:20260221
END:VEVENT
END:VCALENDAR
