BEGIN:VCALENDAR
VERSION:2.0
PRODID:SchoolNow
CALSCALE:GREGORIAN
BEGIN:VEVENT
UID:3f43c586-2dd9-11f1-b260-0afff900871d
DTSTAMP:20260401T184837Z
SUMMARY:Open House - May 14\, 2026
URL;VALUE=URI:https://www.sylvan.k12.ca.us/schools/mary-ann-sanders/calenda
 r/8963336/open-house-may-14-2026
DTSTART:20260515T010000Z
DTEND:20260515T020000Z
END:VEVENT
END:VCALENDAR
