BEGIN:VCALENDAR
VERSION:2.0
PRODID:SchoolNow
CALSCALE:GREGORIAN
BEGIN:VEVENT
UID:94802e40-68c2-11f0-8b32-0a58a9feac02
DTSTAMP:20251216T154643Z
SUMMARY:Volunteer Training @ Orchard Library
URL;VALUE=URI:https://www.sylvan.k12.ca.us/schools/orchard/calendar/8443852
 /volunteer-training-orchard-library
DTSTART:20250916T220000Z
DTEND:20250916T223000Z
END:VEVENT
END:VCALENDAR
