BEGIN:VCALENDAR
VERSION:2.0
PRODID:SchoolNow
CALSCALE:GREGORIAN
BEGIN:VEVENT
UID:94802f76-68c2-11f0-9abf-0a58a9feac02
DTSTAMP:20251216T154643Z
SUMMARY:Volunteer Training @ Orchard MPR
URL;VALUE=URI:https://www.sylvan.k12.ca.us/schools/orchard/calendar/8443853
 /volunteer-training-orchard-mpr
DTSTART:20251208T161500Z
DTEND:20251208T164500Z
END:VEVENT
END:VCALENDAR
