BEGIN:VCALENDAR
VERSION:2.0
PRODID:SchoolNow
CALSCALE:GREGORIAN
BEGIN:VEVENT
UID:84e604de-7d79-11f0-8301-0e3b85f7061d
DTSTAMP:20251216T154643Z
SUMMARY:Orchard September PTA Meeting
URL;VALUE=URI:https://www.sylvan.k12.ca.us/schools/orchard/calendar/8523943
 /orchard-september-pta-meeting
DTSTART:20250912T013000Z
DTEND:20250912T023000Z
END:VEVENT
END:VCALENDAR
