BEGIN:VCALENDAR
VERSION:2.0
PRODID:SchoolNow
CALSCALE:GREGORIAN
BEGIN:VEVENT
UID:84e6084e-7d79-11f0-a057-0e3b85f7061d
DTSTAMP:20251216T154643Z
SUMMARY:Orchard October PTA Meeting
URL;VALUE=URI:https://www.sylvan.k12.ca.us/schools/orchard/calendar/8523944
 /orchard-october-pta-meeting
DTSTART:20251010T013000Z
DTEND:20251010T023000Z
END:VEVENT
END:VCALENDAR
